BEGIN:VCALENDAR
VERSION:2.0
PRODID:-//Races Calendar - ECPv6.15.15//NONSGML v1.0//EN
CALSCALE:GREGORIAN
METHOD:PUBLISH
X-WR-CALNAME:Races Calendar
X-ORIGINAL-URL:https://racescalendar.com
X-WR-CALDESC:Events for Races Calendar
REFRESH-INTERVAL;VALUE=DURATION:PT1H
X-Robots-Tag:noindex
X-PUBLISHED-TTL:PT1H
BEGIN:VTIMEZONE
TZID:Europe/Brussels
BEGIN:DAYLIGHT
TZOFFSETFROM:+0100
TZOFFSETTO:+0200
TZNAME:CEST
DTSTART:20250330T010000
END:DAYLIGHT
BEGIN:STANDARD
TZOFFSETFROM:+0200
TZOFFSETTO:+0100
TZNAME:CET
DTSTART:20251026T010000
END:STANDARD
BEGIN:DAYLIGHT
TZOFFSETFROM:+0100
TZOFFSETTO:+0200
TZNAME:CEST
DTSTART:20260329T010000
END:DAYLIGHT
BEGIN:STANDARD
TZOFFSETFROM:+0200
TZOFFSETTO:+0100
TZNAME:CET
DTSTART:20261025T010000
END:STANDARD
BEGIN:DAYLIGHT
TZOFFSETFROM:+0100
TZOFFSETTO:+0200
TZNAME:CEST
DTSTART:20270328T010000
END:DAYLIGHT
BEGIN:STANDARD
TZOFFSETFROM:+0200
TZOFFSETTO:+0100
TZNAME:CET
DTSTART:20271031T010000
END:STANDARD
END:VTIMEZONE
BEGIN:VEVENT
DTSTART;TZID=Europe/Brussels:20260523T000000
DTEND;TZID=Europe/Brussels:20260523T235959
DTSTAMP:20260420T084824
CREATED:20260223T073439Z
LAST-MODIFIED:20260223T073439Z
UID:2137-1779494400-1779580799@racescalendar.com
SUMMARY:GRID CLASSIC - Pembroke
DESCRIPTION:NOTHING BUT FUN FOR ALL.\nA TEAMBUILDING OR LONE WOLF EXPERIENCE\n\n\n\n\nJoin us for the Grid Classic. A true challenge for all. Over 20+ obstacles along this Pembroke\nscenic route with a 3 storey plunge into the sea! Definitely not an event to miss!!!\n10k of pure fun for all fitness levels. We challenge you to Conquer the Grid Classic \n\n\n\n\n#motivate #inspire #educate
URL:https://racescalendar.com/race/grid-classic-pembroke/
LOCATION:Pembroke\, Pembroke\, Malta
CATEGORIES:OCR
ATTACH;FMTTYPE=image/jpeg:https://racescalendar.com/wp-content/uploads/2026/02/GridClassic.jpg
ORGANIZER;CN="The Grid":MAILTO:info@thegridmalta.com
END:VEVENT
BEGIN:VEVENT
DTSTART;TZID=Europe/Brussels:20261010T000000
DTEND;TZID=Europe/Brussels:20261011T235959
DTSTAMP:20260420T084824
CREATED:20251015T071704Z
LAST-MODIFIED:20251015T072110Z
UID:2001-1791590400-1791763199@racescalendar.com
SUMMARY:The Grid Sprint Weekend
DESCRIPTION:Grid Sprint Weekend is your next challenge! On Saturday\, adults take on an adrenaline-packed obstacle course race for all fitness levels\, pushing limits and conquering challenges. On Sunday\, the action continues for kids and families\, with fun\, inclusive races that inspire teamwork\, confidence\, and healthy competition. Whether you’re racing for personal glory\, family fun\, or just to challenge yourself\, Grid Sprint Weekend is where courage meets community—and every step counts.
URL:https://racescalendar.com/race/the-grid-sprint-weekend/
LOCATION:Golden Bay\, Golden Bay\, Malta
CATEGORIES:OCR
ATTACH;FMTTYPE=image/jpeg:https://racescalendar.com/wp-content/uploads/2025/10/TheGrid.jpg
ORGANIZER;CN="The Grid":MAILTO:info@thegridmalta.com
END:VEVENT
BEGIN:VEVENT
DTSTART;TZID=Europe/Brussels:20261010T000000
DTEND;TZID=Europe/Brussels:20261010T235959
DTSTAMP:20260420T084824
CREATED:20260223T073438Z
LAST-MODIFIED:20260223T073438Z
UID:2138-1791590400-1791676799@racescalendar.com
SUMMARY:GRID SPRINT - Golden Bay
DESCRIPTION:VOTED MALTA’S BEST FITNESS EVENT\n2 YEARS IN A ROW!\n\n\n\n\nWith over 20\,000 participants at The Grid Events\, The Grid Sprint is definitely Malta’s favourite.\nA 6Km scenic route with over 20 obstacles\, spread over one of the islands\nmost beautiful areas overlooking it’s sandy beaches. \nThis heavy duty yet fun course has elevation\, top obstacles and an awesome vibe!\nSign up and become a finisher at Malta’s finest OCR event! \n\n\n\n\n#motivate #inspire #educate
URL:https://racescalendar.com/race/grid-sprint-golden-bay-2/
LOCATION:Golden Bay\, Golden Bay\, Malta
CATEGORIES:OCR
ATTACH;FMTTYPE=image/jpeg:https://racescalendar.com/wp-content/uploads/2026/02/GridSprint.jpg
ORGANIZER;CN="The Grid":MAILTO:info@thegridmalta.com
END:VEVENT
BEGIN:VEVENT
DTSTART;TZID=Europe/Brussels:20261011T000000
DTEND;TZID=Europe/Brussels:20261011T235959
DTSTAMP:20260420T084824
CREATED:20260223T073436Z
LAST-MODIFIED:20260223T073436Z
UID:2139-1791676800-1791763199@racescalendar.com
SUMMARY:GRID Sprint kids - Golden Bay
DESCRIPTION:Join Us For This Amazing\nMud-fun Family Experience\n\n\n\n\nThe Grid Kids promotes a healthy and active lifestyle to all through this extraordinary experience. \nGrid Kids is a fun obstacle race aimed for kids and teens where parents can accompany their children across a fun packed course! \nWe believe in the importance of inclusiveness and fitness for children of all capabilities\,\nas at The Grid we leave no one behind. \n\n\n\n\n#motivate #inspire #educate
URL:https://racescalendar.com/race/grid-sprint-kids-golden-bay/
LOCATION:Golden Bay\, Golden Bay\, Malta
CATEGORIES:OCR
ATTACH;FMTTYPE=image/jpeg:https://racescalendar.com/wp-content/uploads/2026/02/GridKids.jpg
ORGANIZER;CN="The Grid":MAILTO:info@thegridmalta.com
END:VEVENT
BEGIN:VEVENT
DTSTART;TZID=Europe/Brussels:20261101T000000
DTEND;TZID=Europe/Brussels:20261101T235959
DTSTAMP:20260420T084824
CREATED:20260223T073434Z
LAST-MODIFIED:20260223T073434Z
UID:2140-1793491200-1793577599@racescalendar.com
SUMMARY:GRID TRAIL - New Event
DESCRIPTION:ONE OF THE MOST BEAUTIFUL SCENIC\nTRAIL RUNS IN MALTA\n\n\n\n\nThe Grid Trail Run in Selmun is a new addition to our event calendar\, the run takes place ona scenic\, point-to-point course. It starts by the Selmun castle at the top of the Mellieha Hillside and takes you across and around breathtaking scenery within this 6km loop. The course is mainly trail conditions with some challenging hills to take on and conquer. You will finish the race taking on our last challenging hill… walk if you must – but try your best! \n\n\n\n\nEnjoy the scenery & challenge the course\n\n\n\n\nREGISTER EARLY TO ENSURE A SPOT
URL:https://racescalendar.com/race/grid-trail-new-event-2/
CATEGORIES:OCR,Running,Trail Running
ATTACH;FMTTYPE=image/jpeg:https://racescalendar.com/wp-content/uploads/2026/02/Trail3_3.jpg
ORGANIZER;CN="The Grid":MAILTO:info@thegridmalta.com
END:VEVENT
BEGIN:VEVENT
DTSTART;TZID=Europe/Brussels:20261101T080000
DTEND;TZID=Europe/Brussels:20261101T130000
DTSTAMP:20260420T084824
CREATED:20251015T072249Z
LAST-MODIFIED:20251015T072249Z
UID:2007-1793520000-1793538000@racescalendar.com
SUMMARY:The Grid Trail 2026
DESCRIPTION:The Grid Trail Run in Selmun is a new addition to our event calendar\, the run takes place ona scenic\, point-to-point course. It starts by the Selmun castle at the top of the Mellieha Hillside and takes you across and around breathtaking scenery within this 6km loop. The course is mainly trail conditions with some challenging hills to take on and conquer. You will finish the race taking on our last challenging hill… walk if you must – but try your best!
URL:https://racescalendar.com/race/the-grid-trail-2026/
LOCATION:Selmun Palace\, Selmun Palace\, Mellieha\, Malta
CATEGORIES:OCR,Running,Trail Running
ATTACH;FMTTYPE=image/jpeg:https://racescalendar.com/wp-content/uploads/2025/10/GridTrail.jpg
ORGANIZER;CN="The Grid":MAILTO:info@thegridmalta.com
END:VEVENT
END:VCALENDAR