BEGIN:VCALENDAR
VERSION:2.0
PRODID:-//Races Calendar - ECPv6.15.15//NONSGML v1.0//EN
CALSCALE:GREGORIAN
METHOD:PUBLISH
X-ORIGINAL-URL:https://racescalendar.com
X-WR-CALDESC:Events for Races Calendar
REFRESH-INTERVAL;VALUE=DURATION:PT1H
X-Robots-Tag:noindex
X-PUBLISHED-TTL:PT1H
BEGIN:VTIMEZONE
TZID:Europe/Brussels
BEGIN:DAYLIGHT
TZOFFSETFROM:+0100
TZOFFSETTO:+0200
TZNAME:CEST
DTSTART:20250330T010000
END:DAYLIGHT
BEGIN:STANDARD
TZOFFSETFROM:+0200
TZOFFSETTO:+0100
TZNAME:CET
DTSTART:20251026T010000
END:STANDARD
BEGIN:DAYLIGHT
TZOFFSETFROM:+0100
TZOFFSETTO:+0200
TZNAME:CEST
DTSTART:20260329T010000
END:DAYLIGHT
BEGIN:STANDARD
TZOFFSETFROM:+0200
TZOFFSETTO:+0100
TZNAME:CET
DTSTART:20261025T010000
END:STANDARD
BEGIN:DAYLIGHT
TZOFFSETFROM:+0100
TZOFFSETTO:+0200
TZNAME:CEST
DTSTART:20270328T010000
END:DAYLIGHT
BEGIN:STANDARD
TZOFFSETFROM:+0200
TZOFFSETTO:+0100
TZNAME:CET
DTSTART:20271031T010000
END:STANDARD
END:VTIMEZONE
BEGIN:VEVENT
DTSTART;TZID=Europe/Brussels:20260921T070000
DTEND;TZID=Europe/Brussels:20260921T140000
DTSTAMP:20260424T121828
CREATED:20251219T091217Z
LAST-MODIFIED:20251219T091217Z
UID:2036-1789974000-1789999200@racescalendar.com
SUMMARY:XTERRA Comino SwimRun & Trail
DESCRIPTION:XTERRA Comino SwimRun & Trail Run compliment the triathlon and trail running XTERRA events in Malta and Gozo. Since Malta and Gozo have already been covered\, the event will be held on the island of Comino\, one of our island’s most iconic nature reserves\, that continues on the XTERRA philosophy of challenging yourself in nature.
URL:https://racescalendar.com/race/xterra-comino-swimrun-trail-3/
LOCATION:Comino\, Comino\, Malta
CATEGORIES:Running,Swimming,Trail Running
ATTACH;FMTTYPE=image/jpeg:https://racescalendar.com/wp-content/uploads/2025/06/SwimRun.jpeg
ORGANIZER;CN="Xterra Malta":MAILTO:nathan@maltaxterra.com
END:VEVENT
END:VCALENDAR